BEGIN:VCALENDAR
VERSION:2.0
CALSCALE:GREGORIAN
PRODID:-//MyApp//Calendar 1.0//EN
BEGIN:VEVENT
METHOD:PUBLISH
UID:60110@regionalniportaly.cz
DTSTAMP:20260421T234134Z
DTSTART;VALUE=DATE:20260423
DTEND;VALUE=DATE:20260424
SUMMARY:Nikola Džokič - Balkan Express - Stand-up - Plzeň
DESCRIPTION:Už deset let brázdí tenhle srbský řezník vody české stand up comedy se skupinou komiků Underground Comedy. Za tu dobu mu přibylo pár šedin\, jedno dítě\, a ubylo pár mozkových buněk. Pusu má ale pořád stejně prořízlou!O tom se můžete přesvědčit v jeho historicky první celovečerní one-man show\, plné nekorektních vtipů tak moc za hranou\, že padají střemhlav do mariánského příkopu slušnosti.Víc než hodina toho nejlepšího\, co už nikde jinde neuslyšíte ale i sada úplně nových vtipů drsnějších\, než panák rakije po deseti pivech. Pokud nejste útlocitné povahy\, dostanou i vás.
LOCATION:Plzeň
END:VEVENT
END:VCALENDAR