BEGIN:VCALENDAR
VERSION:2.0
CALSCALE:GREGORIAN
PRODID:-//MyApp//Calendar 1.0//EN
BEGIN:VEVENT
METHOD:PUBLISH
UID:60077@regionalniportaly.cz
DTSTAMP:20260424T191224Z
DTSTART;VALUE=DATE:20251213
DTEND;VALUE=DATE:20251214
SUMMARY:Křest alba The Wopeners + hosté Bára Zemanová a Fredy&Krasty
DESCRIPTION:Nastává historický milník kapely The Wopeners - uvedení zbrusu nového alba Relikt na jehož utvoření urputně pracujeme již skoro celý rok.Chceme se o tento památný moment podělit s Vámi všemi a "pustit Vám do žil" novou energii v podobě různorodých chytlavých melodií a rockových zážitků.Spolu s námi přijedou skvělou atmosféru podpořit dvě našlapané seskupení - Ostravští @Fredy&amp\;Krasty a Plzeňská domácí známá scéna @Bára Zemanová &amp\; band.Moc se na Vás všechny těšíme! Doražte si užít skvělou show\, nové zážitky\, spoustu zábavy a zaplavat si na společné vlně různorodých rockových stylů.Vaši The Wopeners!
LOCATION:Plzeň
END:VEVENT
END:VCALENDAR