BEGIN:VCALENDAR
VERSION:2.0
CALSCALE:GREGORIAN
PRODID:-//MyApp//Calendar 1.0//EN
BEGIN:VEVENT
METHOD:PUBLISH
UID:60013@regionalniportaly.cz
DTSTAMP:20260425T011802Z
DTSTART;VALUE=DATE:20260221
DTEND;VALUE=DATE:20260222
SUMMARY:TRAUTENBERK + CIVILNÍ OBRANA
DESCRIPTION:Sojčí TerorTrautenberk vyráží na oslavnou šňůru veselic u příležitosti vydání páteho řadového alba s poetickým názvem "Sojčí teror" Prostě hodit bůčkem v rytmu tanzmetalu\, to chceš. Tak neleň a přijď slavit s námi. Uděláme si to hezký! Můžeš se těšit na parádního hosta Civilní Obranu\, extra svůdnost naší Aničky a rohlík od ucha k uchu.
LOCATION:Plzeň
END:VEVENT
END:VCALENDAR