BEGIN:VCALENDAR
VERSION:2.0
CALSCALE:GREGORIAN
PRODID:-//MyApp//Calendar 1.0//EN
BEGIN:VEVENT
METHOD:PUBLISH
UID:59996@regionalniportaly.cz
DTSTAMP:20260424T175843Z
DTSTART;VALUE=DATE:20251220
DTEND;VALUE=DATE:20251221
SUMMARY:Kečup - 40 let
DESCRIPTION:Legendární skupina Kečup letos slaví 40let od svého vzniku. Kdo by neznal hity Slepá\, Lilie\, Dejmy\, Ixabela IX a další. V&nbsp\;létě již proběhlo několik významných koncertů včetně náměstí v&nbsp\;rodném městě skupiny v&nbsp\;Nýrsku. Hlavní oslava je naplánována a proběhne v Plzni 20.12. od 20hod. Popřát přijdou významní hosté a kamarádi. Přijďte s&nbsp\;Kečupem oslavit toto významné jubileum\, zatancovat si\, zavzpomínat\, bude se jednat o ojedinělý koncert v&nbsp\;dějinách této významné skupiny.
LOCATION:Plzeň
END:VEVENT
END:VCALENDAR