BEGIN:VCALENDAR
VERSION:2.0
CALSCALE:GREGORIAN
PRODID:-//MyApp//Calendar 1.0//EN
BEGIN:VEVENT
METHOD:PUBLISH
UID:59995@regionalniportaly.cz
DTSTAMP:20260425T035852Z
DTSTART;VALUE=DATE:20251230
DTEND;VALUE=DATE:20251231
SUMMARY:Turbo
DESCRIPTION:Rocková legenda Turbo živě v Šeříkovce!Nenechte si ujít jedinečný „silvestrovský“ rockový nářez!&nbsp\;Legendární Plzeňská kapela&nbsp\;Turbo&nbsp\;na prknech Šeříkovky.Připravte se na večer plný nadčasových hitů\, které definovaly celou jednu rockovou éru. Od "Hráče" přes "Chtěl jsem mít" až po "Lásku z pasáží" – zazní všechny skladby\, které milujete a znáte.Turbo&nbsp\;je víc než jen kapela\, je to symbol české rockové scény. Přijďte si zazpívat a užít si atmosféru\, která vás přenese zpět v čase.
LOCATION:Plzeň
END:VEVENT
END:VCALENDAR