BEGIN:VCALENDAR
VERSION:2.0
CALSCALE:GREGORIAN
PRODID:-//MyApp//Calendar 1.0//EN
BEGIN:VEVENT
METHOD:PUBLISH
UID:59992@regionalniportaly.cz
DTSTAMP:20260425T023303Z
DTSTART;VALUE=DATE:20251211
DTEND;VALUE=DATE:20251212
SUMMARY:Olga Lounová
DESCRIPTION:Olga Lounová je populární česká zpěvačka\, skladatelka\, herečka\, závodnice rally.V současné době se Olga věnuje hlavně vystupování s kapelou a herectví v českých muzikálech a televizních seriálech. Mezi její dosud největší hity patří Láska v housce s Xindlem X a autorské skladby K výškám a Brány svaté.Jako předkapela vystoupí THE SCHMELZ
LOCATION:Plzeň
END:VEVENT
END:VCALENDAR