BEGIN:VCALENDAR
VERSION:2.0
CALSCALE:GREGORIAN
PRODID:-//MyApp//Calendar 1.0//EN
BEGIN:VEVENT
METHOD:PUBLISH
UID:59749@regionalniportaly.cz
DTSTAMP:20260425T040911Z
DTSTART;VALUE=DATE:20251128
DTEND;VALUE=DATE:20251129
SUMMARY:X-Cover | Buena Vista Plzeň
DESCRIPTION:Přijďte s námi zažít tu jedinečnou atmosféru klubového koncertu okořeněnou novými songy. Těšíme se na vás\, pojďme si připomenout tu správnou atmosféru plzeňské Buena Visty a udělat si ten správný předvánoční večírek.Open door: 19:30start: 21:00afterpartyvstup: 250 Kč předprodej / 300 Kč na místěPředprodej vstupenek do Private Zone:VIP vstupenka (balkón s vlastním barem\, sezením): 490 KčOMEZENÁ KAPACITA! Zobrazovat míň
LOCATION:Plzeň
END:VEVENT
END:VCALENDAR