BEGIN:VCALENDAR
VERSION:2.0
CALSCALE:GREGORIAN
PRODID:-//MyApp//Calendar 1.0//EN
BEGIN:VEVENT
METHOD:PUBLISH
UID:59748@regionalniportaly.cz
DTSTAMP:20260424T174524Z
DTSTART;VALUE=DATE:20260117
DTEND;VALUE=DATE:20260118
SUMMARY:Svatební korzování 2026
DESCRIPTION:Zažijte svatební veletrh jinak -&nbsp\;s energickou atmosférou\, skvělou hudbou a moderními dodavateli\, kteří sledují trendy i vaše přání. Inspirativní ukázky\, živé rozhovory\, praktické tipy a nevšední zážitky přímo na pódiu.Vše na jednom místě\, v jednom dni –⁠⁠⁠⁠⁠⁠&nbsp\; pro vaši vysněnou svatbu.⁠⁠⁠⁠⁠⁠90 vystavovatelů na jednom místě&nbsp\;#korzujemePořadatel: Svatby od Luc
LOCATION:Plzeň
END:VEVENT
END:VCALENDAR