BEGIN:VCALENDAR
VERSION:2.0
CALSCALE:GREGORIAN
PRODID:-//MyApp//Calendar 1.0//EN
BEGIN:VEVENT
METHOD:PUBLISH
UID:59746@regionalniportaly.cz
DTSTAMP:20260424T223553Z
DTSTART;VALUE=DATE:20251207
DTEND;VALUE=DATE:20251208
SUMMARY:Jan Hnízdil: Jak být zdravý v nemocné společnosti
DESCRIPTION:Zveme na &nbsp\;výbornou přednášku Jana Hnízdila v&nbsp\;Avatar klubu. Tentokrát se stane součástí Vánočního AVATAR setkání.7. &nbsp\;prosince 2025\, od 19 hodin\, kulturní dům Šeříkovka v&nbsp\;Plzni.K&nbsp\;dispozici je šatna a&nbsp\;možnost občerstvení.Jan Hnízdil&nbsp\;vás seznámí se závěry\, ke kterým došel během své dlouholeté praxe.&nbsp\; Na závěr nabídne diskuzi a&nbsp\;odpovědi na vaše otázky. Chyběl nebude ani autogramiáda + prodej jeho nové knihy. Jan Hnízdil je legendou mezi českými lékaři. Jeho revoluční a&nbsp\;z&nbsp\;praxe vycházející názory si můžete přijít poslechnout na AVATAR setkání.Jan přiveze knihu\, která i&nbsp\;tentokrát svědčí o&nbsp\;mimořádné šíři jeho záběru. V&nbsp\;kapitolách poutavě řeší nejen příběhy svých pacientů\, lásku ke zvířatům\, ale i&nbsp\;příběhy svého života a&nbsp\;otázky celé společnosti. Síla příběhů spočívá v&nbsp\;tom\, že na jednotlivých situacích ukazuje\, že i&nbsp\;v&nbsp\;dnešní době se lze složitostem života postavit autonomně\, bez přetvářky\, a&nbsp\;hlavně s&nbsp\;velmi originálním humorem. S&nbsp\;Janem Hnízdilem nemusí každý souhlasit\, ale nemůže mu upřít poctivou snahu o&nbsp\;otevřenost bez dogmat\, hledání odpovědí na komplikované otázky a&nbsp\;víru v&nbsp\;mezilidské porozumění a&nbsp\;přátelství.MUDr. Jan Hnízdil (1958) je český zdravotní poradce\, celostní a&nbsp\;rehabilitační lékař\, jeden z&nbsp\;průkopníků české komplexní a&nbsp\;psychosomatické medicíny\, autor rady odborných a&nbsp\;popularizačních knih. Vystudoval s&nbsp\;červeným diplomem 1.&nbsp\;lékařskou fakultu Univerzity Karlovy v&nbsp\;Praze\, byl atestovaným internistou a&nbsp\;rehabilitačním lékařem. Přednášel také o&nbsp\;problematice dopingu a&nbsp\;sportovní zátěže\, stal se členem akreditační komise Ministerstva zdravotnictví ČR pro psychosomatiku. Jan Hnízdil je znám díky svému veřejnému působení a&nbsp\;knihám\, snaze o&nbsp\;komplexní\, holistický výklad medicíny\, kdy zdravotní stav pacienta výrazně závisí na jeho psychickém stavu a&nbsp\;životním příběhu\, kdy nemoc zapadá do kontextu pacientova života a&nbsp\;řešení jednotlivých situací.&nbsp\;
LOCATION:Plzeň
END:VEVENT
END:VCALENDAR