BEGIN:VCALENDAR
VERSION:2.0
CALSCALE:GREGORIAN
PRODID:-//MyApp//Calendar 1.0//EN
BEGIN:VEVENT
METHOD:PUBLISH
UID:59684@regionalniportaly.cz
DTSTAMP:20260424T224215Z
DTSTART;VALUE=DATE:20260206
DTEND;VALUE=DATE:20260207
SUMMARY:Morricone a klasické milostné hity
DESCRIPTION:Morricone a klasické milostné hity:Nechte se unést těmi nejkrásnějšími milostnými melodiemi všech dob v podání smyčcového kvarteta. V kouzelné atmosféře stovek svíček zazní nesmrtelné skladby\, které vyprávějí příběhy lásky – něžné\, vášnivé i osudové.Program propojuje klasickou hudbu s filmovými melodiemi a popovými hity\, které spojuje jediné téma –&nbsp\;láska.Program večera:Gabrielův hoboj (Mise) – Ennio MorriconeTenkrát na západě – Ennio MorriconeI Will Always Love You – Whitney HoustonCan You Feel the Love Tonight – Elton JohnSalut d’amour – Edward ElgarTennessee – Hans ZimmerGirls Like You – Maroon 5Romeo &amp\; Julie – Henry ManciniDeborah’s Theme – Ennio MorriconePor una cabeza – Carlos GardelWe Have All the Time – James BondMaria\, West Side Story – Leonard BernsteinBeauty and the Beast – Ariana Grande&amp\; více!Přijďte si vychutnat večer plný emocí\, krásné hudby a jedinečné atmosféry\, která Vás zahřeje u srdce.Délka koncertu: 65 minutHraje: Krása Quartet&nbsp\;&nbsp\;
LOCATION:Plzeň
END:VEVENT
END:VCALENDAR