BEGIN:VCALENDAR
VERSION:2.0
CALSCALE:GREGORIAN
PRODID:-//MyApp//Calendar 1.0//EN
BEGIN:VEVENT
METHOD:PUBLISH
UID:59618@regionalniportaly.cz
DTSTAMP:20260424T100044Z
DTSTART;VALUE=DATE:20260518
DTEND;VALUE=DATE:20260519
SUMMARY:MAOK - Pokojná hladina
DESCRIPTION:Zveme vás na mimořádný hudební večer\, který se odehraje v prostoru\, jenž sám o sobě nese ticho\, hloubku a duchovní rezonanci.Kostel Mistra Jana Husa v Plzni – architektonicky čistý\, akusticky citlivý\, atmosférou hluboce lidský.Maok zde vystoupí poprvé\, a právě jedinečnost místa dodá jeho hudbě nový rozměr. Tóny\, které hladí duši\, se rozlijí pod klenbou\, jež pamatuje ticho\, slovo i zpěv.Zvuk\, který se nedá popsat. Prostor\, který se nedá zapomenout. Přítomnost\, která se nedá naplánovat.Těšíme se na vás.
LOCATION:Plzeň
END:VEVENT
END:VCALENDAR