BEGIN:VCALENDAR
VERSION:2.0
CALSCALE:GREGORIAN
PRODID:-//MyApp//Calendar 1.0//EN
BEGIN:VEVENT
METHOD:PUBLISH
UID:59588@regionalniportaly.cz
DTSTAMP:20260424T200945Z
DTSTART;VALUE=DATE:20251113
DTEND;VALUE=DATE:20251114
SUMMARY:Katapult 50 let tour
DESCRIPTION:KATAPULT TOUR 50 let (1975 – 2025)50 let na hudební scéně. Historie jako hrom!Mocná síla rokenrolu vystrčila drápy. Výroční turné je tady. Katapult připravil absolutně totální reprezentační program koncertu\, jehož emoce a energie fanoušky určitě ohromí. Olda Říha si navíc plní přání\, že se vrací jako „pachatel na místo činu“ do míst všude tam\, kde Katapult od roku 1975 začínal. A tohle kritérium Plzeň a Šeříkovka splňují.
LOCATION:Plzeň
END:VEVENT
END:VCALENDAR