BEGIN:VCALENDAR
VERSION:2.0
CALSCALE:GREGORIAN
PRODID:-//MyApp//Calendar 1.0//EN
BEGIN:VEVENT
METHOD:PUBLISH
UID:59587@regionalniportaly.cz
DTSTAMP:20260424T211755Z
DTSTART;VALUE=DATE:20251103
DTEND;VALUE=DATE:20251104
SUMMARY:Bonfire (DE) + White Tygër (UK)
DESCRIPTION:BONFIRE patří bezpochyby mezi nejvýznamnější německé hardrockové kapely. Na začátku devadesátých let byli s dnes již legendárními alby Fireworks (1987)\, Point Blank (1989) a Don’t Touch the Light (1991) jednou ze tří mezinárodně nejuznávanějších kapel v zemi hned vedle Scorpions a Accept. Jejich sláva rychle stoupala po celé Evropě i v zámoří díky vyprodaným turné s Judas Priest a ZZ Top. V průběhu let získali řadu zlatých desek a pravidelně se umisťovali v čele hitparád. Jejich největší hit You Make Me Feel má více než 40 milionů zhlédnutí na YouTube.V aktuální sestavě pod vedením kytaristy a zakladatele Hanse Zillera kapela navazuje na svou nejsilnější éru – s výborným zvukem\, energií a novým materiálem. Album Higher Ground\, které vyšlo v lednu 2025\, ukazuje BONFIRE ve skvělé formě a potvrzuje jejich schopnost spojit silné melodie s poctivou hardrockovou razancí.V rámci aktuálního turné HIGHER GROUND TOUR se představí i v ŠeříkovceWhite Tygër je energická rocková/metalová kapela ze Spojeného království. Založena byla v roce 2015 jako tribute kapela pro žánrové giganty jako AC/DC\, Guns N’ Roses\, Metallica\, Mötley Crüe a další. Hudebníci však brzy začali psát vlastní písně. Debutové album „This Is The Life“ vyšlo v roce 2022 a bylo evidentně úspěšné. Inspirováni tímto úspěchem\, začali pracovat na následovném albu „Back Of The Class“\, které vyšlo v prosinci 2024Své desetileté výročí oslaví také u nás\, v Šeříkovce a s největší pravděpodobností je uvidíte na baru!
LOCATION:Plzeň
END:VEVENT
END:VCALENDAR