BEGIN:VCALENDAR
VERSION:2.0
CALSCALE:GREGORIAN
PRODID:-//MyApp//Calendar 1.0//EN
BEGIN:VEVENT
METHOD:PUBLISH
UID:59538@regionalniportaly.cz
DTSTAMP:20260424T223329Z
DTSTART;VALUE=DATE:20251031
DTEND;VALUE=DATE:20251101
SUMMARY:Nixies // Ragdoll // Sour Sugar
DESCRIPTION:NIXIES // RAGDOLL // SOUR SUGARvstupné v předprodeji:110\,-/ včasná studentská na smsticket150\,-/ včasná základní na smsticket&nbsp\;Klatovská třída 138\, Plzeň--------------NIXIESIndie kapela muzikantských ufonů z Plzně hrající alternativní fusion\, multižánrovou směs psychedelického rocku\, jazzu\, krautrockových postupů a synth retro 80's popu. Ve Vinylu vystoupí ve složení Maty (kytary\, klávesy\, zpěv\, saxofon\, příčná flétna)\, Daniel (bicí\, perkuse) a stálý host kapely Václav (basa). Autorská tvorba\, multiinstrumentální nasazení a našlapaná rytmika jsou nejcharakterističtější atributy živáků nixies. V rámci koncertního setu zazní některé ze singlů\, které si můžete naposlouchat na streamovacích platformách i skladby z připravovaných dvou alb. Kapela nixies byla jednou ze tří oceněných kapel na festivalu Riversound 2025.RAGDOLLAltrocková kapela z Brna vystupující s vlastní tvorbou psanou v angličtině i češtině. Melancholické texty s motivy z klasické literatury a z osobního života jejich tvůrců. Hlavně ale sdílené emoce mezi jevištěm a hledištěm klubů. Kapela Ragdoll pravidelně vydává svoje nahrávky\, a tak se můžete s přesvědčivým projevem této muzikantské party s výraznou zpěvačkou seznámit prostřednictvím videoklipů vydaných v roce 2025\, nebo poslechem alba a singlů na streamovacích platformách. Hitový potenciál skladeb Ragdoll stojí za rychle se rozšiřující fanouškovskou základnou\, která už dávno přetekla za hranice moravské metropole.SOUR SUGARTříčlenná kapela z Letohradu založená ve sklepě. Pořádný nával zvuků\, žádný garage band. Vlastní autorské skladby\, brilantní živá vystoupení. Sour Sugar v roce 2025 doplnili dříve vydané singly třískladbovým EP Decoction of Lust - k poslechu na streamovacích platformách.Finalista Riversound 2024.------------------------------------------------------O kvalitní zvuk se postará zkušený zvukař Tomáš Fanta.----------------Těšíme se na Vás!&nbsp\;
LOCATION:Plzeň
END:VEVENT
END:VCALENDAR