BEGIN:VCALENDAR
VERSION:2.0
CALSCALE:GREGORIAN
PRODID:-//MyApp//Calendar 1.0//EN
BEGIN:VEVENT
METHOD:PUBLISH
UID:59463@regionalniportaly.cz
DTSTAMP:20260425T035944Z
DTSTART;VALUE=DATE:20251106
DTEND;VALUE=DATE:20251107
SUMMARY:Horkýže Slíže
DESCRIPTION:Slovenští punk-rockoví Horkýže Slíže z&nbsp\;Nitry slaví v&nbsp\;roce 2025 neuvěřitelných 33 let na hudební scéně. Během kariéry plné úspěchů si vybudovala na Slovensku i&nbsp\;v Česku pevnou pozici\, díky které na vlastních headline koncertech vyprodává kluby i&nbsp\;sportovní haly a&nbsp\;na festivalech se objevuje jako přední zástupce československé rockové scény.&nbsp\;
LOCATION:Plzeň
END:VEVENT
END:VCALENDAR