BEGIN:VCALENDAR
VERSION:2.0
CALSCALE:GREGORIAN
PRODID:-//MyApp//Calendar 1.0//EN
BEGIN:VEVENT
METHOD:PUBLISH
UID:59462@regionalniportaly.cz
DTSTAMP:20260424T235810Z
DTSTART;VALUE=DATE:20251023
DTEND;VALUE=DATE:20251024
SUMMARY:Michal Prokop & Framus Five
DESCRIPTION:Michal Prokop &amp\; Framus Five - OSTRAKA TOUR míří do Plzně!V Šeříkovce zazní nejen legendární skladby\, ale i ochutnávka zbrusu nového alba "Ostraka"!
LOCATION:Plzeň
END:VEVENT
END:VCALENDAR