BEGIN:VCALENDAR
VERSION:2.0
CALSCALE:GREGORIAN
PRODID:-//MyApp//Calendar 1.0//EN
BEGIN:VEVENT
METHOD:PUBLISH
UID:59295@regionalniportaly.cz
DTSTAMP:20260425T011735Z
DTSTART;VALUE=DATE:20251226
DTEND;VALUE=DATE:20251227
SUMMARY:Queens of Bohemia
DESCRIPTION:Na populární Pilsen Queen Tribute Band navazuje kapela&nbsp\;Queens Of Bohemia\, ve které působí tři její původní členové - Filip Nováček (zpěv)\, Martin Petrášek (basa) a Michal Rajtmajer (kytara) a také nově příchozí - Ondřej Muller (bicí) a Jakub Šmaus (klávesy).&nbsp\;Přijďte si s námi společně zazpívat\, zatančit a užít božskou hudbu nesmrtelné rockové legendy&nbsp\;Queen!&nbsp\;Zveme Vás na náš vánoční koncert do Anděl Music Bar v Plzni!
LOCATION:Plzeň
END:VEVENT
END:VCALENDAR