BEGIN:VCALENDAR
VERSION:2.0
CALSCALE:GREGORIAN
PRODID:-//MyApp//Calendar 1.0//EN
BEGIN:VEVENT
METHOD:PUBLISH
UID:59074@regionalniportaly.cz
DTSTAMP:20260425T040004Z
DTSTART;VALUE=DATE:20251127
DTEND;VALUE=DATE:20251128
SUMMARY:Viktorie  Molcar | Anděl Music Bar
DESCRIPTION:Koncert mladé nadějné zpěvačky Viktorie Molcar\, která ve svých 13 letech slaví úspěchy po celé ČR.Vystoupí Viktorie Molcar a hosté Tobias Freya a jsemhusby &amp\; Filipwintr.Přijďte si užít příjemný pop-rockový večer.Doors : 18:00Start : 19:00
LOCATION:Plzeň
END:VEVENT
END:VCALENDAR