BEGIN:VCALENDAR
VERSION:2.0
CALSCALE:GREGORIAN
PRODID:-//MyApp//Calendar 1.0//EN
BEGIN:VEVENT
METHOD:PUBLISH
UID:58809@regionalniportaly.cz
DTSTAMP:20260425T035704Z
DTSTART;VALUE=DATE:20260322
DTEND;VALUE=DATE:20260323
SUMMARY:Filmové melodie a Queen 2
DESCRIPTION:Pojďte si užít zbrusu nový program\, který v zajímavé dramaturgii kombinuje aranže písniček skupiny Queen s filmovou hudbouze známých filmů v úpravě pro Esferas kvarteto do vytápěné&nbsp\;Betlémské kaple&nbsp\;FILMOVÉ MELODIE a QUEEN 2 s Esferas KvartetemI. housle Ivana MorysováII. housle: Nikola Mikešováviola: Jan Forestvioloncello: Petr Špaček&nbsp\;PROGRAM:QUEEN&nbsp\;&nbsp\;&nbsp\; &nbsp\; &nbsp\; &nbsp\; &nbsp\; &nbsp\; &nbsp\; &nbsp\; &nbsp\; &nbsp\; &nbsp\; &nbsp\; &nbsp\;&nbsp\;Love of my lifeQUEEN&nbsp\;&nbsp\;&nbsp\; &nbsp\; &nbsp\; &nbsp\; &nbsp\; &nbsp\; &nbsp\; &nbsp\; &nbsp\; &nbsp\; &nbsp\; &nbsp\; &nbsp\;&nbsp\;Bohemian RhapsodyQUEEN&nbsp\; &nbsp\; &nbsp\; &nbsp\; &nbsp\; &nbsp\; &nbsp\; &nbsp\; &nbsp\; &nbsp\; &nbsp\; &nbsp\; &nbsp\; &nbsp\;&nbsp\;We are the ChampionsQUEEN&nbsp\; &nbsp\; &nbsp\; &nbsp\; &nbsp\; &nbsp\; &nbsp\; &nbsp\; &nbsp\; &nbsp\; &nbsp\; &nbsp\; &nbsp\; &nbsp\;&nbsp\;Show must go onQUEEN&nbsp\; &nbsp\; &nbsp\; &nbsp\; &nbsp\; &nbsp\; &nbsp\; &nbsp\; &nbsp\; &nbsp\; &nbsp\; &nbsp\; &nbsp\; &nbsp\; Don´t stop me nowPÁN PRSTENŮ&nbsp\;&nbsp\;&nbsp\; &nbsp\; &nbsp\; &nbsp\; &nbsp\; &nbsp\; &nbsp\; Howard Shore:&nbsp\; Concerning Hobbits&nbsp\;&nbsp\;&nbsp\;HVĚZDNÁ BRÁNA &nbsp\;&nbsp\; &nbsp\; &nbsp\; &nbsp\; David Arnold: hlavní téma&nbsp\;PIRÁTI Z KARIBIKU&nbsp\; &nbsp\; &nbsp\; &nbsp\; H. Zimmer&nbsp\;FORREST GUMP&nbsp\; &nbsp\; &nbsp\; &nbsp\; &nbsp\; &nbsp\; &nbsp\;Alan Silvestri:&nbsp\; Feather ThemeROCKY&nbsp\;&nbsp\; &nbsp\; &nbsp\; &nbsp\; &nbsp\; &nbsp\; &nbsp\; &nbsp\; &nbsp\; &nbsp\; &nbsp\; &nbsp\; &nbsp\; &nbsp\; Survivor:&nbsp\; Eye of the TigerTENKRÁT NA ZÁPADĚ&nbsp\; &nbsp\;Ennio Morricone:&nbsp\; hlavní témaSTAR WARS&nbsp\;&nbsp\;&nbsp\; &nbsp\; &nbsp\; &nbsp\; &nbsp\; &nbsp\; &nbsp\; &nbsp\; &nbsp\; &nbsp\;J. Williams: Love ThemeGLADIÁTOR&nbsp\; &nbsp\; &nbsp\; &nbsp\; &nbsp\; &nbsp\; &nbsp\; &nbsp\; &nbsp\; &nbsp\; &nbsp\;H. Zimmer: Now we are freeZRODILA SE HVĚZDA&nbsp\;&nbsp\;&nbsp\; &nbsp\;Shallow&nbsp\;&nbsp\;&nbsp\;&nbsp\;&nbsp\;&nbsp\;&nbsp\;&nbsp\;&nbsp\;&nbsp\;&nbsp\;&nbsp\;&nbsp\;&nbsp\;&nbsp\;&nbsp\;&nbsp\;&nbsp\;&nbsp\;&nbsp\;&nbsp\;&nbsp\;&nbsp\;&nbsp\;&nbsp\;&nbsp\;&nbsp\;&nbsp\;&nbsp\;&nbsp\;&nbsp\;&nbsp\;&nbsp\;&nbsp\;&nbsp\;&nbsp\;&nbsp\;&nbsp\;&nbsp\;&nbsp\;&nbsp\;&nbsp\;&nbsp\;&nbsp\;&nbsp\;&nbsp\;&nbsp\;&nbsp\;&nbsp\;&nbsp\;&nbsp\;&nbsp\;&nbsp\;&nbsp\;&nbsp\;&nbsp\;&nbsp\;&nbsp\;&nbsp\;&nbsp\;&nbsp\;&nbsp\;&nbsp\;&nbsp\;&nbsp\;&nbsp\;&nbsp\;&nbsp\;&nbsp\;&nbsp\;&nbsp\;&nbsp\;&nbsp\;&nbsp\;&nbsp\;&nbsp\;&nbsp\;HRA O TRŮNY&nbsp\;&nbsp\;&nbsp\;&nbsp\;&nbsp\;&nbsp\;&nbsp\;&nbsp\;&nbsp\;&nbsp\;&nbsp\;&nbsp\;&nbsp\;&nbsp\;&nbsp\;&nbsp\;&nbsp\;&nbsp\;The Rains of CastamereHRA O TRŮNY&nbsp\;&nbsp\;&nbsp\;&nbsp\;&nbsp\;&nbsp\;&nbsp\;&nbsp\;&nbsp\;&nbsp\;&nbsp\;&nbsp\;&nbsp\;&nbsp\;&nbsp\;&nbsp\;&nbsp\;&nbsp\;Ramin Djawadi: hlavní téma &nbsp\;&nbsp\;&nbsp\;&nbsp\;&nbsp\;&nbsp\;&nbsp\;&nbsp\;&nbsp\;JAK VYCVIČIT DRAKA&nbsp\; &nbsp\;&nbsp\;&nbsp\;J. Powell: Romantic FlightSTAR WARS&nbsp\;&nbsp\; &nbsp\; &nbsp\; &nbsp\; &nbsp\; &nbsp\; &nbsp\; &nbsp\; &nbsp\; &nbsp\; &nbsp\;John Williams: Star Wars:&nbsp\; main themeSTAR WARS&nbsp\; &nbsp\; &nbsp\; &nbsp\; &nbsp\; &nbsp\; &nbsp\; &nbsp\; &nbsp\; &nbsp\; &nbsp\; John Williams: Cantina Bar Music&nbsp\;délka 65 minut\, změna programu vyhrazena&nbsp\;
LOCATION:Plzeň
END:VEVENT
END:VCALENDAR