BEGIN:VCALENDAR
VERSION:2.0
CALSCALE:GREGORIAN
PRODID:-//MyApp//Calendar 1.0//EN
BEGIN:VEVENT
METHOD:PUBLISH
UID:58753@regionalniportaly.cz
DTSTAMP:20260424T180300Z
DTSTART;VALUE=DATE:20251220
DTEND;VALUE=DATE:20251221
SUMMARY:Turnaj legend Christmas: time 2025
DESCRIPTION:Po roce se vrací jedinečný fotbalový zážitek – Turnaj legend: Christmas Time!Na jedné palubovce se představí bývalí reprezentanti\, vítězové evropských pohárů i hráči Klubu ligových legend. Tisíce odehraných minut\, stovky gólů a nezapomenutelných příběhů.Celý výtěžek ze vstupného a dražby&nbsp\;dresů&nbsp\;půjde na projekt&nbsp\;Malá jóga (www.malajoga.com)&nbsp\;pro onkologicky nemocné děti.Přijďte si užít fotbal legend a podpořit dobrou věc. Vyberte si svou vstupenku a staňte se součástí tohoto výjimečného dne.Děti do&nbsp\;15 let mají vstup s rodiči zdarma!
LOCATION:Plzeň
END:VEVENT
END:VCALENDAR