BEGIN:VCALENDAR
VERSION:2.0
CALSCALE:GREGORIAN
PRODID:-//MyApp//Calendar 1.0//EN
BEGIN:VEVENT
METHOD:PUBLISH
UID:58693@regionalniportaly.cz
DTSTAMP:20260425T000026Z
DTSTART;VALUE=DATE:20251114
DTEND;VALUE=DATE:20251115
SUMMARY:Underdawgs: Trilogie
DESCRIPTION:Do třetice všeho dobrého...svatá Trojice. Trilogie.UNDERDAWGS\, tak jak klasicky znáte v Andělovi. Plzeň zažije jeden z největších rapových večerů tohohle roku s domácí scénou. Přijď si užít plzeňskej sound.RAP\, DJs\, DAWGZ + HOSTÉ.Artists:ci5Mr. HIGHLIFER. G-Funk i drill. Věci života\, otevři si skotskou\, vyfoukni z plic\, ničeho se neboj.Plzeňský gádžovec - O.G. UNDERDAWG.Spotify:https://open.spotify.com/artist/2PXdnwIMhGFTg2vjCFoE9AYT:&nbsp\;https://www.youtube.com/channel/UC82DCQZ7U_3SBKOsX7p8IUQIG:&nbsp\;https://www.instagram.com/ci5_jan/Guappo &amp\; Pretty Kitty BNeni nutno představovat - O.G. UNDERDAWGS. Plzeňská dvojice DJ a MC Guappo a místní cowboy/MC/Tequila ochutnávač/baller Prety Kitty B.Společný EP\, ale i solo tracky. Nepopsatelná energie na stagi.Spotify GUAPPO:&nbsp\;https://open.spotify.com/artist/0rM8QOu8olwwdeUNxf5qpmYT GUAPPO:&nbsp\;https://www.youtube.com/@ilGuappoIG GUAPPO:&nbsp\;https://www.instagram.com/ilguappo_/Spotify PRETTY KITTY B.:&nbsp\;https://open.spotify.com/artist/0yG1s45RKqbtFcsiwLJzolIG PRETTY KITTY B.:&nbsp\;https://www.instagram.com/prettykittyb69/Enzo RoofLetos jediný hostující raper na stagi.Vycházející hvězda plzeňského rapu přinese na show svůj nezaměnitelný hlas a tvrdě basující beats. Účastník letošního The Mag Wrap představí svý největší hity jako “Chill guy” nebo “Tak To Je Vono” a nakopne večer tím nejlepším možným způsobem!IG: @enzo__roof-Spotify:&nbsp\;https://open.spotify.com/artist/0ugdK1nwimJsPHUsZaRHVV...&nbsp\;VÍCE INFORMACÍ ODHALÍME BRZY\,SLEDUJTE NÁS NA INSTAGRAMU:@__underdawgs__
LOCATION:Plzeň
END:VEVENT
END:VCALENDAR