BEGIN:VCALENDAR
VERSION:2.0
CALSCALE:GREGORIAN
PRODID:-//MyApp//Calendar 1.0//EN
BEGIN:VEVENT
METHOD:PUBLISH
UID:58621@regionalniportaly.cz
DTSTAMP:20260421T091941Z
DTSTART;VALUE=DATE:20260521
DTEND;VALUE=DATE:20260522
SUMMARY:Barbora Englischová - Detoxikuj tour 2026 - Plzeň
DESCRIPTION:Pozvánka na setkání\, které pohladí na duši.Přijměte pozvání na jedinečnou událost s Bárou Englischovou. Autorka knižního bestselleru „Detoxikuj život“ a certifikovaná koučka k nám přijíždí se svou Detoxikuj tour 2026 a vybrala si pouhých pět měst v České republice. Jedním z nich je i Plzeň.V novém programu s názvem „Jak mít život\, který ladí s Tvým srdcem“ vás čeká poutavá přednáška i příjemná beseda. Bára s námi bude sdílet své nejhlubší myšlenky o tom\, jak vědomě tvořit realitu\, jak najít odvahu být sám sebou a jak žít život\, který skutečně rezonuje s vaším nitrem. Těšit se můžete také na dynamickou meditaci pro otevření srdeční čakry a na intuitivní interakci\, kde bude prostor pro vaše otázky a příběhy.Celý večer bude doprovázet hudba\, která léčí – postará se o ni fantastický Jano Světlan Majerčík\, jehož písně jsou prožité a plné lásky. Hraje na frekvenci 432 MHz\, která harmonizuje a zklidňuje.Přijďte zažít tento krásný večer\, který ve vás zanechá hluboký a příjemný pocit.&nbsp\;Bára EnglischováJe kouč a terapeutka neurolingvistické psychoterapie\, zakladatelka projektu Detoxikuj život a autorka online programů\, které lidem pomáhají přijmout zodpovědnost za svůj život a vytvářet si realitu podle svých představ.Pracuje s nepořádkem v podvědomí a myslích lidí do hloubky. Jejím životním posláním je pomáhat lidem\, proměňovat jejich sny ve skutečnost a učit je\, jak využívat prospěšně specifické techniky tak\, abyste dosáhli svých životních cílů.Vytváří online programy\, které pomáhají lidem opustit jejich strachy\, zbavit se negativních myšlenek a vstát ze dna v těžkých životních situacích.Jano Svetlan MajerčíkPísničkář\, který zpívá o tom\, co vidí\, slyší a zejména cítí. Jeho písně jsou prožhavené poznáním\, prosvětlené paprsky čistoty\, jsou o prostotě\, která je naplněná krásou\, láskou a hloubkou. Povznáší\, podpoří a prosvětlí.
LOCATION:Plzeň
END:VEVENT
END:VCALENDAR