BEGIN:VCALENDAR
VERSION:2.0
CALSCALE:GREGORIAN
PRODID:-//MyApp//Calendar 1.0//EN
BEGIN:VEVENT
METHOD:PUBLISH
UID:58511@regionalniportaly.cz
DTSTAMP:20260425T040814Z
DTSTART;VALUE=DATE:20251119
DTEND;VALUE=DATE:20251120
SUMMARY:Klára Vytisková | VEGA TOUR
DESCRIPTION:Klára Vytisková je zpěvačka a skladatelka s nezaměnitelným hlasem oceněná dvěma cenami Anděl.Její doménou je pop s jasným názorem a charakteristickým zvukem. Svoji tvorbu balí do silné estetiky a autentického vizuálu. Její hudební kořeny sahají k soulu a elektropopu kapely Toxique\, postupně se však proměnila v sólovou autorku a do hudby i celkové prezentace se promítají příběhy a životní témata.S albem VEGA se představuje v nové\, ryze české éře. Ve své tvorbě spojuje introspektivní texty s energií punkových klubových pódií\, vintage nádechem 70s vinylů se současným zvukem.Tématem aktuálního alba Vega jsou úhly pohledů\, pohled na svět a život z výšky\, zvuku dominují jasné basy\, vintage bubny\, špinavé a zároveň krystalické kytary – tak zní Klára Vytisková v roce 2025. Nehraje si na dokonalost\, ale na opravdovost.
LOCATION:Plzeň
END:VEVENT
END:VCALENDAR