BEGIN:VCALENDAR
VERSION:2.0
CALSCALE:GREGORIAN
PRODID:-//MyApp//Calendar 1.0//EN
BEGIN:VEVENT
METHOD:PUBLISH
UID:58510@regionalniportaly.cz
DTSTAMP:20260425T040045Z
DTSTART;VALUE=DATE:20251227
DTEND;VALUE=DATE:20251228
SUMMARY:POPs # Best Of 80s & 90s
DESCRIPTION:Koncert hudební skupiny POPs s největšími hity zahraničního popu 80 a 90 let.Fandové Michaela Jacksona\, Phila Collinse\, George Michaela\, Depeche Mode\, Backstreet Boys a mnoha dalších z&nbsp\;éry 80s &amp\; 90s si určitě zapište do kalendářů datum 27. 12. 2025 a nenechte si ujít tento jedinečný koncert plný skvělé hudby\, energie a zábavy.Vstupenky k dispozici i na místě za 450 Kč (pouze v hotovosti)Více informací naleznete na www.pops.cz | www.facebook.com/popscz | www.instagram.com/pops_pilsenFacebook událost zde.Program:Opendoor: 20:00POPs: 21:00Afterparty: 23:30 w/ DJ L.P.D.
LOCATION:Plzeň
END:VEVENT
END:VCALENDAR