BEGIN:VCALENDAR
VERSION:2.0
CALSCALE:GREGORIAN
PRODID:-//MyApp//Calendar 1.0//EN
BEGIN:VEVENT
METHOD:PUBLISH
UID:58362@regionalniportaly.cz
DTSTAMP:20260425T035654Z
DTSTART;VALUE=DATE:20251023
DTEND;VALUE=DATE:20251024
SUMMARY:Bezejmenná kapela | Anděl Music Bar
DESCRIPTION:﻿"Bezejmenná kapela je uskupení mladých hudebníků\, kteří se zaměřují na funkovou hudbu. Kapelu\, která vznikla tak spontánně\, že nemá název\, tvoří devět členů. Pěveckou sekci reprezentuje Barbora Krásná a Kristýna Málková v čele s Kateřinou Kotroušovou. Srdce kapely tvoří Oldřich Červenka - bicí\, Radek Pelc - basa a Radim Pluhař - kytara. Instrumentální složka je dále obohacena o dechovou sekci - Sebastián Kuhn\, Ondřej Kudrna a Pavel Čížek. Tato kapela se zaměřuje především na funkové předělávky známých i méně známých písní\, a to po vzoru kapel\, jako jsou například Scary Pockets nebo Couch. Přijďte si užít koncert plný emocí\, energie a radosti z hudby."
LOCATION:Plzeň
END:VEVENT
END:VCALENDAR