BEGIN:VCALENDAR
VERSION:2.0
CALSCALE:GREGORIAN
PRODID:-//MyApp//Calendar 1.0//EN
BEGIN:VEVENT
METHOD:PUBLISH
UID:58030@regionalniportaly.cz
DTSTAMP:20260425T024603Z
DTSTART;VALUE=DATE:20251118
DTEND;VALUE=DATE:20251119
SUMMARY:Svojost - autorské čtení Kateřiny Pokorné
DESCRIPTION:Svojost vyráží na své první autorské turné\, ve kterém propojí intimní poezii\, hudbu a silné příběhy ze života. Známá svým osobitým projevem a nekompromisní otevřeností\, přináší na pódia atmosféru\, která se nebojí emocí ani ticha. Večerem zazní texty z nové knihy&nbsp\;Znamení\, která navazuje na čtenářsky úspěšný debut&nbsp\;Millennials\, i písně z právě vydaného hudebního EP.Témata jako ztráta\, dospívání\, hledání vlastní identity nebo odvaha říct věci nahlas – to vše se prolne do jedinečného večera\, kde se slova stávají domovem.
LOCATION:Plzeň
END:VEVENT
END:VCALENDAR