BEGIN:VCALENDAR
VERSION:2.0
CALSCALE:GREGORIAN
PRODID:-//MyApp//Calendar 1.0//EN
BEGIN:VEVENT
METHOD:PUBLISH
UID:57869@regionalniportaly.cz
DTSTAMP:20260424T225613Z
DTSTART;VALUE=DATE:20251011
DTEND;VALUE=DATE:20251012
SUMMARY:Alisher Nurakhmetov / Plzeň / Stand Up
DESCRIPTION:Пльзень ахой!11 октября&nbsp\;выступлю со своим музыкально-стендаповым концертом\, где расскажу свои новые\, а также лучшие старые шутки.&nbsp\;Полтора часа проверенных шуток и песен о нашей цизинецкой жизни в Чехии.Обещаю\, что мы классно кайфанем и поугараем!)Когда? 11 октября&nbsp\;Где? Kulturní dům JAS&nbsp\;(Jablonského 1254/39)Сбор: 19:30Начало: 20:00Конец: 21:30ИНФО: +420 777 145 515
LOCATION:Plzeň
END:VEVENT
END:VCALENDAR