BEGIN:VCALENDAR
VERSION:2.0
CALSCALE:GREGORIAN
PRODID:-//MyApp//Calendar 1.0//EN
BEGIN:VEVENT
METHOD:PUBLISH
UID:57799@regionalniportaly.cz
DTSTAMP:20260425T023245Z
DTSTART;VALUE=DATE:20251024
DTEND;VALUE=DATE:20251025
SUMMARY:Travesti Show Hanky Panky
DESCRIPTION:Přijdte si užít pateční večer s Travesti Show Hanky Panky.Do Červeného Hrádku do Hospůdky u Ženíšků od 20 hodin.Zažijete plný večer zábavy a smichu!těšíme se na každeho z Vás.
LOCATION:Plzeň
END:VEVENT
END:VCALENDAR