BEGIN:VCALENDAR
VERSION:2.0
CALSCALE:GREGORIAN
PRODID:-//MyApp//Calendar 1.0//EN
BEGIN:VEVENT
METHOD:PUBLISH
UID:57791@regionalniportaly.cz
DTSTAMP:20260424T211552Z
DTSTART;VALUE=DATE:20251108
DTEND;VALUE=DATE:20251109
SUMMARY:Lucie revival
DESCRIPTION:Přijdte si užít&nbsp\;sobotní večerní koncert dne 8.11.2025.Výročí LUCIE revival 20 let.Otevíráme sál od 20:00Budeme se těšit na každeho z Vás :-)&nbsp\;
LOCATION:Plzeň
END:VEVENT
END:VCALENDAR