BEGIN:VCALENDAR
VERSION:2.0
CALSCALE:GREGORIAN
PRODID:-//MyApp//Calendar 1.0//EN
BEGIN:VEVENT
METHOD:PUBLISH
UID:57609@regionalniportaly.cz
DTSTAMP:20260424T212813Z
DTSTART;VALUE=DATE:20251004
DTEND;VALUE=DATE:20251005
SUMMARY:SIFON | Anděl Music Bar
DESCRIPTION:Skupina Sifon je jedna z nejstarších rockových kapel z plzeňska\, na českých podiích se pohybuje již od konce 70. let minulého století. Sifon Original má neustále svoji kvalitní produkci\, která láká fanoušky do sálů i na parkety především po západě Čech. Skupina se vyznačuje melodičností a hitovostí svých skladeb\, autoři drtivé většiny těchto skladeb již od osmdesátých let v kapele Sifon Original stále působí (V. Šelmát\, hostující M.Vaněk...)\, Sifon má na kontě již 10 alb a dvě live DVD.S touto stálicí zažijete neobyčejné taneční i pěvecké zážitky při živých vystoupeních\, která pro své fanoušky skupina stále ráda absolvuje.
LOCATION:Plzeň
END:VEVENT
END:VCALENDAR