BEGIN:VCALENDAR
VERSION:2.0
CALSCALE:GREGORIAN
PRODID:-//MyApp//Calendar 1.0//EN
BEGIN:VEVENT
METHOD:PUBLISH
UID:57603@regionalniportaly.cz
DTSTAMP:20260424T235628Z
DTSTART;VALUE=DATE:20251011
DTEND;VALUE=DATE:20251012
SUMMARY:HeWeR | Anděl music bar
DESCRIPTION:Oblíbená rocková formace HeWeR se po letech nečinnosti začíná opět objevovat na koncertních pódiích!11.10.2025 vystoupí exkluzivně v plzeňském klubu Anděl.&nbsp\;
LOCATION:Plzeň
END:VEVENT
END:VCALENDAR