BEGIN:VCALENDAR
VERSION:2.0
CALSCALE:GREGORIAN
PRODID:-//MyApp//Calendar 1.0//EN
BEGIN:VEVENT
METHOD:PUBLISH
UID:57544@regionalniportaly.cz
DTSTAMP:20260425T035812Z
DTSTART;VALUE=DATE:20260213
DTEND;VALUE=DATE:20260214
SUMMARY:Vanua2
DESCRIPTION:VANUA2superskupina českých muzikantů + sealovský hlas zpěvákaPředstavte si synergii chytlavých rock-popových rytmů\, s kořeny world music a špetkou soulu i jazzu zahrané bravurními muzikanty\, bývalými členy Blue Effectu. K tomu sametově zabarvený hlas fenomenálního zpěváka Yannicka Teviho\, a máte Vanua2.Jejich energická vystoupení\, s charismatickým frontmanem\, podpořená repertoárem v angličtině\, přesnou rytmikou a jedinečnými kytarovými riffy\, ohromí každé publikum.
LOCATION:Plzeň
END:VEVENT
END:VCALENDAR