BEGIN:VCALENDAR
VERSION:2.0
CALSCALE:GREGORIAN
PRODID:-//MyApp//Calendar 1.0//EN
BEGIN:VEVENT
METHOD:PUBLISH
UID:57540@regionalniportaly.cz
DTSTAMP:20260424T200916Z
DTSTART;VALUE=DATE:20251206
DTEND;VALUE=DATE:20251207
SUMMARY:Vánoční koncert
DESCRIPTION:&nbsp\;Vánoční koncert při svíčkách – hudba\, která vás naladí na sváteční čas 🎄Zapomeňte na předvánoční shon a přijďte se zastavit v záplavě světel tisíců svíček. Krása Quartet vás provede večerem plným kouzelných melodií\, které k Vánocům neodmyslitelně patří.Uslyšíte něžné&nbsp\;Vánoční pastorále Arcangela Corelliho\, pohádkové tóny z Čajkovského Louskáčka\, rozvernou Tratsch polku Johanna Strausse\, slavnostní Adeste fideles či dojemnou O Holy Night. Chybět nebudou ani české koledy\, při kterých si budete chtít tiše prozpěvovat\, a další skladby\, které pohladí duši.Délka koncertu: 65 minutÚčinkuje: Krása Quartet (smyčcový kvartet)Přijďte se naladit na Vánoce hudbou\, která zahřeje u srdce a připomene nám\, co je na tomto svátečním čase nejkrásnější – klid\, radost a společné chvíle.
LOCATION:Plzeň
END:VEVENT
END:VCALENDAR