BEGIN:VCALENDAR
VERSION:2.0
CALSCALE:GREGORIAN
PRODID:-//MyApp//Calendar 1.0//EN
BEGIN:VEVENT
METHOD:PUBLISH
UID:57492@regionalniportaly.cz
DTSTAMP:20260425T035821Z
DTSTART;VALUE=DATE:20251126
DTEND;VALUE=DATE:20251127
SUMMARY:Pearly Seconds - 10 LET
DESCRIPTION:Plzeňská alternative rock metalová formace Pearly Seconds se po deseti letech vrací na místo činu do klubu Anděl music bar\, aby symbolicky oslavila první dekádu existence právě tam\, kde se odehrál její první koncert.Můžete se těšit na večer\, během kterého kapela zahraje VŠECHNO z její tvorby od roku 2015 až po současnost a možná i něco navíc ...Přijďte s Pearly Seconds oslavit kulaté výročí a užít si pořádnou párty plnou muziky a speciálních hostů.
LOCATION:Plzeň
END:VEVENT
END:VCALENDAR