BEGIN:VCALENDAR
VERSION:2.0
CALSCALE:GREGORIAN
PRODID:-//MyApp//Calendar 1.0//EN
BEGIN:VEVENT
METHOD:PUBLISH
UID:57491@regionalniportaly.cz
DTSTAMP:20260424T200955Z
DTSTART;VALUE=DATE:20251025
DTEND;VALUE=DATE:20251026
SUMMARY:Díracon
DESCRIPTION:Zatímco kavky recitují klasickou literaturu\, lidé se bojí pít kávu a temnými uličkami se plíží něco s kopyty\, připravuje dvojice autorů setkání s fanoušky a posluchači audioseriálu Díra.Na podzim 2025 se příběh Olbrama a Lafky po dlouhých pěti letech uzavře. Přijďte se s Dírou rozloučit na Díracon do Plzně! Čeká na vás beseda s herci\, přednáška o tom\, co se do příběhu nevešlo\, představení nových projektů a audioseriálů\, kvíz\, cosplay soutěž\, kreativní workshop i promítání strašidelné audiopovídky ze světa Díry\, na jejímž vizuálu se opět podíleli sami posluchači! A možná přijde (a zazpívá) i Arkána!Více informací na: https://diracon.cz/&nbsp\;
LOCATION:Plzeň
END:VEVENT
END:VCALENDAR