BEGIN:VCALENDAR
VERSION:2.0
CALSCALE:GREGORIAN
PRODID:-//MyApp//Calendar 1.0//EN
BEGIN:VEVENT
METHOD:PUBLISH
UID:57305@regionalniportaly.cz
DTSTAMP:20260424T224718Z
DTSTART;VALUE=DATE:20251003
DTEND;VALUE=DATE:20251004
SUMMARY:Křest audio knihy Následuj mne/Darrell Standing/Masový hrach
DESCRIPTION:KŘEST AUDIOKNIHY - NÁSLEDUJ MNEKamil Pešťák a Jan HolíkKONCERT - Darrell Standing + Masový Hrach + hosté3.10. 2025 uvedeme do světa audioverzi detektivního thrilleru NÁSLEDUJ MNE\, který knižně vyšel v roce 2019.Příběh válečného veterána Adama Lva bravurně načetl herec a zpěvák Jan Holík\, který přislíbil na večírku účast.Můžete se těšit na koncert kapel Darrell Standing\,&nbsp\;Masový Hrach a také na spousty hostů. Těšíme se na vás.Darrell Standing REINCARNATIONHudební seskupení\, které se po pětadvaceti letech probouzí ze spánku\, přichází se zcela novým pojetím své autorské tvorby. Kapela\, která zažila svoji rockovou slávu mezi lety 1990 – 2000\, odehrála stovky koncertů od malých klubů po velká pódia\, odhodila rockový háv a vrací se k podstatě své hudební barevnosti. Polo akustické pojetí bluesrocku s nádechem pub rocku a folku skvěle nechají vyniknout melodiím a autorským textům zpěváka Kamila Pešťáka. Z původní sestavy kapely můžeme vidět oba kytaristy Martina Tejmla a Michala Světlíka i saxofonistu Jiřího Ptáčka. Není snadné naskočit do rozjetého vlaku\, ale dokonale to zvládl Ivan Vala – basová kytara a Michal Diestler – cajon. Kapela zní autenticky\, opravdově a nový sound odráží léta zkušeností\, které muzikanti nabrali za léta strávená v jiných kapelách.MASOVÝ HRACHMasový Hrach – power folk Pilsen. Kapela kolem zpěváka\, kytaristy\, hráče na foukací harmoniku\, autora hudby a textů a mimo jiné člena populární kapely Děda mládek illegal Band Petra Hracha!
LOCATION:Plzeň
END:VEVENT
END:VCALENDAR