BEGIN:VCALENDAR
VERSION:2.0
CALSCALE:GREGORIAN
PRODID:-//MyApp//Calendar 1.0//EN
BEGIN:VEVENT
METHOD:PUBLISH
UID:57043@regionalniportaly.cz
DTSTAMP:20260424T235800Z
DTSTART;VALUE=DATE:20251025
DTEND;VALUE=DATE:20251026
SUMMARY:Stezka odvahy / PLZEŇ
DESCRIPTION:Stezka odvahy míří do Plzně!&nbsp\;&nbsp\;🎃👻Potkáte ty nejstrašidelnější pohádkové a nadpřirozené bytosti\, které otestují vaši odvahu a dovednosti. Připravte se na temná zákoutí a lehké tematické úkoly pro děti!Těšíme se na všechny malé i velké odvážlivce!&nbsp\;Vhodné pro děti 3 - 10 let📅 Datum: 25.10.2025⏰ Čas: Najdete na své zakoupené vstupence📍 Místo: LESOPARK HOMOLKA (Dětské hřiště Homolka)🚩 Start: https://mapy.com/s/fevenezobaKaždých 5 minut pouštíme na stezku skupinku přibližně 5 dětí s rodiči\, které budou mezi sebou soupeřit v odvaze a dovednostech.⚠️Zakoupením vstupenky berete na vědomí a souhlasíte\, že vstupujete na trasu výhradně na vlastní nebezpečí. Za svou bezpečnost a bezpečnost svých dětí zodpovídáte sami. ⚠️
LOCATION:Plzeň
END:VEVENT
END:VCALENDAR