BEGIN:VCALENDAR
VERSION:2.0
CALSCALE:GREGORIAN
PRODID:-//MyApp//Calendar 1.0//EN
BEGIN:VEVENT
METHOD:PUBLISH
UID:56880@regionalniportaly.cz
DTSTAMP:20260424T213515Z
DTSTART;VALUE=DATE:20251011
DTEND;VALUE=DATE:20251012
SUMMARY:X years of INNERSPHERE
DESCRIPTION:Výroční koncert kapely Innersphere - 10 let na scéně\, 1 EP a 3 dlouhohrající alba. Kapela zahraje dva speciální sety\, kde bude možné slyšet i léta nehrané skladby a vidět i dřívější členy kapely z předešlých let. Bude to průřez diskografií\, oslava\, vzpomínání a především pořádná porce muziky. Speciálním hostem večera jsou polští Warbell.Letošní podzim nás zavede do počátků kapely\, kdy myšlenky na založení Innersphere se váží právě i ke klubu Parlament\, kde jsme dávali dohromady první koncept a nápady. Pojí nás s tímto místem řada vzpomínek\, koncertů a je i místem\, kde se metalová komunita schází. S kapelou Warbell mají Innersphere také společnou historii a to především v raných letech\, kdy spolu poměrně hojně koncertovali a spolupracovali.&nbsp\;Přijďte zapařit\, oslavit a podpořit. Výdělek z výroční akce kapela Innersphere použije na nahrávání 4. řadové desky\, která se aktuálně skládá a pravděpodobně bude natočena v příštím roce.Děkujeme za podporu!
LOCATION:Plzeň
END:VEVENT
END:VCALENDAR