BEGIN:VCALENDAR
VERSION:2.0
CALSCALE:GREGORIAN
PRODID:-//MyApp//Calendar 1.0//EN
BEGIN:VEVENT
METHOD:PUBLISH
UID:56792@regionalniportaly.cz
DTSTAMP:20260425T035929Z
DTSTART;VALUE=DATE:20251030
DTEND;VALUE=DATE:20251031
SUMMARY:Deloraine + Trouble Notes v Plzni (Šeříkovka)
DESCRIPTION:Deloraine zahrají velký dvouhodinový koncert s novou show.Připravte se na nezapomenutelný večer s Deloraine! Na epickou výpravu do světů inspirovaných Zaklínačem\, keltskými mýty\, severskými ságami a dávnými slovanskými legendami. Hudba Deloraine je víc než jen koncert – je to rituál\, oslava a divoký tanec v jednom!A i tentokrát budou na koncertě exkluzívní zahraniční hosté. Tentokráte The Trouble Notes jsou progresivní world-folkové trio\, jejichž hudba bourá hranice žánrů i států – mísí keltské\, balkánské a orientální vlivy s rockovou intenzitou a filmovou atmosférou. Každý koncert je výprava kolem světa – bez slov\, ale s emocemi\, které vás dostanou.Deloraine mistrně splétají mocné vokály charismatických zpěváků s bohatým zvukem pestré škály etnických a exotických nástrojů.&nbsp\; Koncerty Deloraine jsou proslulé svou strhující atmosférou a vizuální podívanou. A tentokrát navíc se zcela novou show. Těšte se na pohanské tance\, tajemné rituály\, výjimečné kostýmy a na pódiu ožívající postavy jako rohatá vědma\, bůh Cernunnos či samotný Odin. Jejich vystoupení jsou nekonečným proudem energie\, který si podmanil publika na velkých evropských festivalech i vyprodaných klubových scénách.Nenechte si ujít kapelu\, jejíž alba "Vlaštovka" a "Srdce z kamene" byla vyhlášena alby týdne a jejichž videoklip "Sabat" a "Odin\, Havranů Pán" získal mezinárodní ocenění. Přijďte zažít divoký dvouhodinový pohanský koncert\, kde se bude tančit\, zpívat a oslavovat! Hudba Deloraine je vášnivé srdce na dlani\, připravené vás vtáhnout do svého magického světa!Po koncertě se na vás těšíme u našeho merch stánku\, kde se vám rádi podepíšeme nebo se s vámi vyfotíme a popovídáme.&nbsp\;Vstup v kostýmu je určitě vítaný\, nikoliv povinný.Těšíme se na vás!
LOCATION:Plzeň
END:VEVENT
END:VCALENDAR