BEGIN:VCALENDAR
VERSION:2.0
CALSCALE:GREGORIAN
PRODID:-//MyApp//Calendar 1.0//EN
BEGIN:VEVENT
METHOD:PUBLISH
UID:56442@regionalniportaly.cz
DTSTAMP:20260425T023408Z
DTSTART;VALUE=DATE:20250911
DTEND;VALUE=DATE:20250912
SUMMARY:Christina von Dreien a slova moudrých
DESCRIPTION:Zveme vás na setkání přátel a fanoušků zpravodajského serveru Sueneé Universe! Pojďme společně tvořit nový vesmír\, setkat se u dobrého jídla v přátelské neformální atmosféře\, sdílet zážitky ze setkání s ET. Téma: Christina von Dreien a slova moudrýchHlavní hosté&nbsp\;večera: Iveta Kantová&nbsp\;a Sueneé🔮 Existuje naše vědomí i mimo tělo?🌍 Je iluze oddělenosti překážkou míru na Zemi?👁️ Proč je pravda o původu lidstva zamlčovaná?💫 Co nám mohou rozkrýt minulé životy a plán duše?💗 Je láska opravdu největší silou ve vesmíru?A kdo je vlastně Christina von Dreien?Jsi připraven/a na odpovědi? &nbsp\;Přijď a dozvíš se více...Program setkání:17:30 ... Prostor je pro vás otevřen18:00 ...&nbsp\;Christina von Dreien a slova moudrých21:30 ... Předpokládaný konecV ceně&nbsp\;vstupenky&nbsp\;je rezervace jednoho místa (sezení na židli)\, příspěvek na společný raut. Pití a další zákusky&nbsp\;si hradí každý sám na místě.
LOCATION:Plzeň
END:VEVENT
END:VCALENDAR