BEGIN:VCALENDAR
VERSION:2.0
CALSCALE:GREGORIAN
PRODID:-//MyApp//Calendar 1.0//EN
BEGIN:VEVENT
METHOD:PUBLISH
UID:56436@regionalniportaly.cz
DTSTAMP:20260425T024614Z
DTSTART;VALUE=DATE:20250916
DTEND;VALUE=DATE:20250917
SUMMARY:Nixies // Skotační kulomet // Federální guláš
DESCRIPTION:NIXIES // SKOTAČNÍ KULOMET // FEDERÁLNÍ GULÁŠ&nbsp\;vstupné v předprodeji:150\,- Kč včasná studentská na smsticket200\,- Kč včasná základní na smsticketVenkovní stage\, Zach's Pub\, Plzeň&nbsp\;SKOTAČNÍ KULOMETOsmičlenná plzeňská formace\, která s impozantní lehkostí proplouvá mezi žánry – od jazzrocku\, přes R'n'B&nbsp\;až po funky disco. Kapelu charakterizuje živelná energetická smršť\, která se při každém koncertu Skotačáku valí z pódia\, což obvykle fanoušci oceňují tím\, že si rádi hodí bočkem. Kapela v roce 2024 zvítězila v soutěži Můza. Kromě široké fanouškovské základny si Skotačního kulometu všímají i pořadatelé velkých zavedených akcí. Časopis Headliner zařadil Skotační kulomet mezi 50 nadějí české hudby roku 2024 a na Rock for People 2025 byl Skotační kulomet zařazen do line-upu vedle absolutních českých (Vypsaná fixa\, Vladimir 518\, Horkýže Slíže) i světových&nbsp\;hvězd ( například&nbsp\;Slipknot\, Guns n' Roses\,&nbsp\;&nbsp\;Biffy Clyro\, In Flames\, Linkin Park a další). Na streamovacích platformách si můžete poslechnout 3 EP a jedno plnotučné album vydané na přelomu roku 2024 a 2025. Kapela aktuálně pracuje na dalším albu\, z něhož na koncertě zazní vybrané skladby.&nbsp\;Každý koncert Skotačáku je mimořádným zážitkem\, který je škoda&nbsp\;si nechat ujít.&nbsp\;NIXIESIndie kapela muzikantských ufonů z Plzně hrající alternativní&nbsp\;fusion\, multižánrovou směs psychedelického rocku\, jazzu\, krautrockových postupů&nbsp\;a synth retro 80's popu. U Zacha vystoupí ve složení Maty (kytary\, klávesy\, zpěv\, saxofon\, příčná flétna\, zpěv)\, Daniel (bicí\, perkuse) a stálý host kapely Václav (basa) a premiérově&nbsp\;na tomto koncertě kapelu doplní&nbsp\;Vilém (syntezátory). Autorská tvorba\, multiinstrumentální nasazení a našlapaná rytmika jsou nejcharakterističtější atributy živáků nixies. Na koncertě zazní některé ze singlů\, které si můžete naposlouchat na všech streamovacích platformách i&nbsp\;skladby z připravovaných dvou alb. U jednotlivých skladeb dojde i na hostování pár skvělých muzikantů ze současného&nbsp\;plzeňského hudebního undergroundu. Kapela nixies byla na festivalu Riversound 2025 jednou ze tří oceněných kapel plzeňsko - berlínskou porotou.&nbsp\;FEDERÁLNÍ GULÁŠPoezie žije\, punk taky. Literáti seskupení v mládežnickém&nbsp\;spolku autorů a příznivců poezie&nbsp\;Federální guláš vyplní svým autorským čtením časový blok při výměně kapel na pódiu. Těšit se můžeme na osobitá vystoupení a dobré texty. Tombolu s výhrami v podobě zájezdu do Jugoslávie nečekejte.
LOCATION:Plzeň
END:VEVENT
END:VCALENDAR