BEGIN:VCALENDAR
VERSION:2.0
CALSCALE:GREGORIAN
PRODID:-//MyApp//Calendar 1.0//EN
BEGIN:VEVENT
METHOD:PUBLISH
UID:56310@regionalniportaly.cz
DTSTAMP:20260424T185632Z
DTSTART;VALUE=DATE:20250815
DTEND;VALUE=DATE:20250816
SUMMARY:HIVE FEST - Techno nad Plzní
DESCRIPTION:&nbsp\;TECHNO NAD PLZNÍ | Nech festivaly za kopcem. Tady je tvoje TerrazaNemusíš nikam jezdit\, abys zažil skvělou noc.V ten samý víkend\, kdy všichni míří na velké techno festivaly\, Plzeň žije svým vlastním beatem – vysoko nad náměstím\, pod otevřenou oblohou.&nbsp\;Techno v nejčistší podobě\, bez front\, bez davu\, zato s atmosférou\, která má styl.&nbsp\;Leon D s exkluzivním vinyl setem – teplo analogového zvuku\, který tě vtáhne.&nbsp\;Výhled na město\, hvězdy nad hlavou\, drink v ruce a rytmus\, co tě nepustí.&nbsp\;Ideální pro ty\, co chtějí zůstat "doma"\, ale nechtějí o nic přijít&nbsp\;Terasa s výhledem místo pole s blátem&nbsp\;Limitovaný počet míst = žádný stres\, jen vibe&nbsp\;Kde: TERRAZA PLZEŇ Nám. Republiky 33 301 00 Plzeň&nbsp\;Kdy: 15.8.2025 od 18 hodin&nbsp\;Vstup: 250 KčZůstaň ve městě. Užij si techno jako král.Tvoje Plzeň\, tvoje noc\, tvoje hudba.&nbsp\;#TechnoNadPlzni&nbsp\;#LokálníZvuk&nbsp\;#VinylVibes&nbsp\;#LeonDLive&nbsp\;#PlzenskaNoc
LOCATION:Plzeň
END:VEVENT
END:VCALENDAR