BEGIN:VCALENDAR
VERSION:2.0
CALSCALE:GREGORIAN
PRODID:-//MyApp//Calendar 1.0//EN
BEGIN:VEVENT
METHOD:PUBLISH
UID:56299@regionalniportaly.cz
DTSTAMP:20260425T040901Z
DTSTART;VALUE=DATE:20250905
DTEND;VALUE=DATE:20250906
SUMMARY:Pocta Taylor Swift
DESCRIPTION:Pocta Taylor Swift – Koncert smyčcového kvarteta za svitu tisíce svíček&nbsp\;v podání Krása QuartetDélka: 65 minutZažijte magický večer\, kde se popová královna setkává s klasickou elegancí. Smyčcové kvarteto Krása Quartet vás zve na jedinečný koncert „Pocta Taylor Swift“\, který rozzáří prostor tisícem svíček a rozechvěje srdce všech fanoušků této výjimečné umělkyně.V originálních aranžích zazní hity jako:Invisible StringEnchantedWe Are Never Ever Getting Back TogetherYou Belong With MeMe!Love StoryI Knew You Were TroubleLoverSweet NothingWildest Dreams...a další!Přijďte se ponořit do kouzelné atmosféry\, kde každý tón a plamen svíčky vypráví příběh o lásce\, ztrátě a hledání krásy ve světě kolem nás. Tento koncert je ideální nejen pro fanoušky Taylor Swift\, ale pro všechny\, kdo chtějí zažít něco opravdu výjimečného!
LOCATION:Plzeň
END:VEVENT
END:VCALENDAR