BEGIN:VCALENDAR
VERSION:2.0
CALSCALE:GREGORIAN
PRODID:-//MyApp//Calendar 1.0//EN
BEGIN:VEVENT
METHOD:PUBLISH
UID:56283@regionalniportaly.cz
DTSTAMP:20260424T213646Z
DTSTART;VALUE=DATE:20250911
DTEND;VALUE=DATE:20250912
SUMMARY:AVATAR klub: Film Tajemství smrti a beseda s V. Poltikovičem
DESCRIPTION:AVATAR klub připravil pro podzim 2025 cyklus setkání / besed / filmů v krásném sále Západočeského muzea\, v centru Plzně. Oceňovaný režisér Viliam Poltikovič&nbsp\;je jednou z osobností\, kterou s radostí zveme do AVATAR klubu.Celovečerní dokumentární film v režii&nbsp\;Viliama&nbsp\;Poltikoviče&nbsp\;TAJEMSTVÍ SMRTI se svým dějem spolu s divákem vydává na dobrodružnou a hlubinnou cestu směrem k základním i nadstavbovým otázkám kolem smrti a strachu spojeného s ní. Prostřednictvím hereckého průvodce Jaroslava Duška prozkoumává\, jak je možné kupř. právě pomocí strachu ze smrti využívat a ovládat chování lidí. Film nahlíží na různé kulturní přístupy k tématu smrti včetně svědectví od těch národů\, které smrt nevnímají jako strašáka. Nabízí alternativní pohledy na smrt\, změnu chápání závěrečné etapy života a vizi smrti jako brány do jiných světů. Skrze osobní příběhy lidí\, kteří překonali svůj strach ze smrti\, nám film ukazuje\, jak výrazně může přístup k tématu smrti ovlivnit kvalitu našeho života.Buďte vnímaví k myšlenkám filmu\, neostýchejte se po filmu klást otázky režisérovi\, využijte příležitosti uvidět jiné souvislosti.&nbsp\;ČASOVÝ SCÉNÁŘ:&nbsp\;17.30 otevření sálu\, k dispozici šatna (pokud nejsou vstupenky vyprodané\, pak je možné zakoupení vstupenky na místě: Kopeckého sady 2\, Plzeň)18.00 zahájení promítání filmu20.00 beseda k filmu s režisérem Viliamem Poltikovičem&nbsp\;+&nbsp\;autogramiáda
LOCATION:Plzeň
END:VEVENT
END:VCALENDAR