BEGIN:VCALENDAR
VERSION:2.0
CALSCALE:GREGORIAN
PRODID:-//MyApp//Calendar 1.0//EN
BEGIN:VEVENT
METHOD:PUBLISH
UID:56216@regionalniportaly.cz
DTSTAMP:20260425T011934Z
DTSTART;VALUE=DATE:20251002
DTEND;VALUE=DATE:20251003
SUMMARY:Avatar klub: Beseda s astrologem JUDr. Jiřím Kubíkem v Plzni
DESCRIPTION:JUDr. Jiří Kubík je uznávaným plzeňským astrologem\, který přispěl k šíření astrologických znalostí a moderní astrologie včetně zavádění&nbsp\; nových technik a metod. Jeho články a přednášky pomáhají lépe pochopit principy astrologie. Je známý svou schopností kombinovat tradiční astrologické principy s moderními poznatky a přístupy. Od roku 2000 vyučuje v Astrologické škole: Astrolog Jiří Kubík - Česká AstrologieAVATAR klub připravil pro podzim 2025 cyklus setkání / besed v krásném sále Západočeského muzea\, v centru Plzně. Budete moci naslouchat\, sdílet i diskutovat. Jiří Kubík&nbsp\;je jednou z osobností\, kterou s radostí zveme do AVATAR klubu.17.30 otevření sálu\, k dispozici šatna (pokud nejsou vstupenky vyprodané\, pak je možné zakoupení vstupenky na místě: Kopeckého sady 2\, Plzeň)18.00 zahájení besedy20.00 ukončení přednášky + beseda +&nbsp\;autogramiáda\, přineste si knihy k podpisuVstupenky:DOSPĚLÁ OSOBA: 450 KčDítě do 15 let: 100 KčProgram AVATAR klubu v Plzni: www.avatarklub.cz11.9.: Viliam Poltikovič a promítání filmu Tajemství smrti (s diskuzí s režisérem)18.9.: MUDr. Jan Vojáček2.10.: Astrolog JUDr. Jiří Kubík9.10.: RNDr. Emil Páleš16.10.: Prof. Anna HogenováPřipravujeme: Hana Sar Blochová\, Josef Formánek a další
LOCATION:Plzeň
END:VEVENT
END:VCALENDAR