BEGIN:VCALENDAR
VERSION:2.0
CALSCALE:GREGORIAN
PRODID:-//MyApp//Calendar 1.0//EN
BEGIN:VEVENT
METHOD:PUBLISH
UID:55786@regionalniportaly.cz
DTSTAMP:20260425T035918Z
DTSTART;VALUE=DATE:20250829
DTEND;VALUE=DATE:20250830
SUMMARY:Feels like heaven - ROOFTOP PARTY
DESCRIPTION:FEELS LIKE HEAVEN ROOFTOP 2025&nbsp\;Exkluzivní letní taneční párty nad střechami PlzněKdy:&nbsp\;Poslední pátek prázdnin 2025Kde:&nbsp\;Terasa hotelu Central\, Náměstí Republiky\, PlzeňV kolik:&nbsp\;Začínáme v podvečer – zakončení přesně o&nbsp\;půlnoci\, pak pokračujeme na afterpartyNezapomenutelný výhled na katedrálu sv. Bartoloměje\, letní nebe nad hlavou\, skvělá hudba a atmosféra jako z jiného světa – to vše a mnohem víc vás čeká na&nbsp\;druhém ročníku rooftop party Feels like heaven!Hrají pro vás:DJ Bodymovin&nbsp\;(Plzeň) – náš domácí král elektronického grooveDJ Alex&nbsp\;(Praha) – energická a stylová\, jak ji znáteDJ Michael Burian&nbsp\;–&nbsp\;legendární jméno evropské taneční scény\, letos poprvé s námi!V ceně vstupenky:Stylový&nbsp\;welcome drinkBohatý&nbsp\;raut\, protože v nebi se hlad nemáAFTERPARTY: Po půlnoci pokračujeme v&nbsp\;Dominik Kafe&amp\;Bar\, jen 200 metrů od hotelu. Vstup z rooftop party&nbsp\;platí i na afterku!Kapacita omezena na 100 osob!Minulý rok bylo vyprodáno –&nbsp\;zajistěte si lístek včas a buďte opět našimi VIP hosty!&nbsp\;Pojďte s námi&nbsp\;stylově zakončit léto&nbsp\;–&nbsp\;ve výškách\, s výhledem\, s hudbou\, která vás zvedne ze židle.#FeelsLikeHeaven2025 #RooftopPlzen #EndOfSummerParty
LOCATION:Plzeň
END:VEVENT
END:VCALENDAR