BEGIN:VCALENDAR
VERSION:2.0
CALSCALE:GREGORIAN
PRODID:-//MyApp//Calendar 1.0//EN
BEGIN:VEVENT
METHOD:PUBLISH
UID:55732@regionalniportaly.cz
DTSTAMP:20260424T235638Z
DTSTART;VALUE=DATE:20250720
DTEND;VALUE=DATE:20250721
SUMMARY:Gucul Huligan - Vasyl Melnykovych
DESCRIPTION:20/07 - PLZEN.Гуцул Хуліган — Літній тур Чехією «Відвези малу на море» Цього літа Гуцул Хуліган - виконавець пісень відвези малу на море\,гойра вісілє\,ровер\,моя мала\,теплий дощ бере свою шалену гуцульську енергію\, закидає її в рюкзак і вирушає в міні тур Чехією кілька міст\, кілометри драйву і музики\, літри сміху і одна велика мета — відвезти малу на море\, у багатьох піснях він використовує народні гуцульські фрази й мотиви\, але аранжує їх у своєму стилі — додає балканську ритміку. Що тебе чекає?Живий звук\,гумор і сучасний драйв\, шалена атмосфера\,І як бонус — тусовка після концерту!— Чому тобі треба бути там? Бо квиток зараз — дешевше\, місце в залі гарантоване\, а спогади залишаться назавжди. Кожен куплений квиток — це маленький внесок у велику мрію про море для малої.ВХІД&nbsp\;на дискотеку 150 CZK для тих хто не був на концерті.Міста туру: Острава\, Брно\, Ліберець\, Пльзень\, Усті Над Лабем — зустрічайте! Купуй квиток на smsticket.cz і готуйся до літа\, яке не забудеш! Частина зібраних коштів підуть на закупівлю FPV дронів для 36 бригади морської піхоти&nbsp\; &nbsp\;-Коли? 20 липня (Неділя)&nbsp\;-Де?-Bilej Medved (Prokopova 336)&nbsp\;-Відкриття дверей: 18:00&nbsp\;-Концерт: 19:00-Аферпаті: 20:00 - 03:00-ІНФОРМАЦІЯ: +420 773 229 703&nbsp\; &nbsp\; &nbsp\; &nbsp\; &nbsp\; &nbsp\; &nbsp\; &nbsp\; &nbsp\; &nbsp\; &nbsp\; &nbsp\; &nbsp\; &nbsp\; &nbsp\; &nbsp\; &nbsp\; &nbsp\; &nbsp\; &nbsp\; &nbsp\; &nbsp\; &nbsp\; &nbsp\; &nbsp\; &nbsp\; &nbsp\; &nbsp\; &nbsp\; &nbsp\; &nbsp\; &nbsp\; &nbsp\;
LOCATION:Plzeň
END:VEVENT
END:VCALENDAR