BEGIN:VCALENDAR
VERSION:2.0
CALSCALE:GREGORIAN
PRODID:-//MyApp//Calendar 1.0//EN
BEGIN:VEVENT
METHOD:PUBLISH
UID:55588@regionalniportaly.cz
DTSTAMP:20260425T041422Z
DTSTART;VALUE=DATE:20250930
DTEND;VALUE=DATE:20251001
SUMMARY:Festival pomůcek a služeb
DESCRIPTION:Festival pomůcek a služebRehabilitační\, kompenzační\, elektronické a optické pomůcky\, poskytovatelé sociálních a zdravotních služeb\,&nbsp\;workshopy\, konzultace s&nbsp\;odborníky.&nbsp\;První ročník Festivalu pomůcek a služeb nabídne&nbsp\;možnost prohlédnutí a vyzkoušení rehabilitačních a kompenzačních pomůcek pro handicapované\,&nbsp\;účast na&nbsp\;zajímavých workshopech&nbsp\;a konzultace&nbsp\;s&nbsp\;odborníky z&nbsp\;mnoha oborů. Vše na jednom místě a&nbsp\; v&nbsp\;průběhu celého dne.&nbsp\;Festival je místem setkání lidí mnoha rolí a profesí. Pečující rodiče a lidé s handicapem si budou moci&nbsp\;po celý den prohlížet rehabilitační a kompenzační pomůcky\, využít možností&nbsp\;pomůcky vyzkoušet v praxi. Bude prostor ke sdílení zkušeností&nbsp\;s odborníky\, kteří budou na akci přítomní\, s dodavateli pomůcek a s dalšími účastníky.&nbsp\;Pravidelně po celý den&nbsp\;budou probíhat zajímavé workshopy\, které povedou partneři festivalu. Připravujeme témata - Práce s textem slabozrakých a nevidomých osob\, Moderní technologie pro handicapované\, Edukační rodinné pobyty - ČAVO\, Polohování dětí s kombinovaným postižením&nbsp\;a další.&nbsp\;&nbsp\;Festival je otevřen všem zájemcům o uvedená témata.Pečujícím (rodiče dětí s&nbsp\;postižením\, rodina osob s&nbsp\;postižením)\, handicapovaným\, odborníkům\, kteří tvoří multidisciplinární tým okolo pacientů\, klientům (všech věkových kategorií).Účast potvrdili odborníci z&nbsp\;řad zdravotníků – lékaři (neurolog\, rehabilitační lékař\, ortoped\, psycholog\, pediatr\, neonatolog\, oftalmolog\, psychiatr)\, fyzioterapeuté\, ergoterapeuté\, kliničtí psychologové\, zrakoví terapeuté\, kliničtí logopedi\, zdravotní sestry. Pracovníci v&nbsp\;sociálních službách - poradkyně rané péče\, sociální a další pracovníci v&nbsp\;pobytových zařízeních (stacionáře\, domovy pro osoby a další)\, odborníci z&nbsp\;řad školství – speciální pedagogové ze školských poradenských zařízení\, ze škol a školských zařízení.Pozvání na akci je určeno také pracovníkům z&nbsp\;lázeňských zařízení\, neurorehabilitačních klinik\, pracovníkům úřadů práce\, revizním lékařům a revizním technikům (kteří se podílejí na schvalování pomůcek)\, vedení nadací\, které se také spolupodílejí na úhradách některých pomůcek.&nbsp\;Vstup zdarma pro pečující rodiče\, handicapované\, seniory a studenty (registrace přes QR kód (Vstup zdarma) na pozvánce nebo emailem festival@krokomar.cz).&nbsp\;&nbsp\;&nbsp\;
LOCATION:Plzeň
END:VEVENT
END:VCALENDAR