BEGIN:VCALENDAR
VERSION:2.0
CALSCALE:GREGORIAN
PRODID:-//MyApp//Calendar 1.0//EN
BEGIN:VEVENT
METHOD:PUBLISH
UID:55514@regionalniportaly.cz
DTSTAMP:20260425T001118Z
DTSTART;VALUE=DATE:20250622
DTEND;VALUE=DATE:20250623
SUMMARY:Alisher Nurakhmetov / Plzeň / Stand Up
DESCRIPTION:Пльзень ахой!22 июня&nbsp\;выступлю со своим музыкально-стендаповым концертом\, где расскажу свои новые\, а также лучшие старые шутки.&nbsp\;Полтора часа проверенных шуток и песен о нашей цизинецкой жизни в Чехии.Обещаю\, что мы классно кайфанем и поугараем!)Когда? 22&nbsp\;июня&nbsp\;Где?&nbsp\;Viktoria Soul Restaurant (Částkova 2485/53)Сбор: 19:30Начало: 20:00Конец: 21:30ИНФО: +420 777 145 515
LOCATION:Plzeň
END:VEVENT
END:VCALENDAR