BEGIN:VCALENDAR
VERSION:2.0
CALSCALE:GREGORIAN
PRODID:-//MyApp//Calendar 1.0//EN
BEGIN:VEVENT
METHOD:PUBLISH
UID:55457@regionalniportaly.cz
DTSTAMP:20260424T235742Z
DTSTART;VALUE=DATE:20250705
DTEND;VALUE=DATE:20250706
SUMMARY:IRON MAIDEN TRIBUTE | ANDĚL MUSIC BAR
DESCRIPTION:IRON MAIDEN TRIBUTE (HU)Jeden z nejlepších evropských tribute band Iron Maiden z Maďarska. Existují přes 25 let a svým autentickým vystoupením již přesvědčili fanoušky Iron Maiden na mnoha pódiích v Evropě. Název kapely\, Iron Maidnem (maďarsky – majdnem) je ve skutečnosti slovní hříčka a znamená v maďarštině „skoro jako…“ a kapela taky!!Repertoár obsahuje přes 70 skladeb úspěšné britské heavymetalové kapely. Středem zájmu je prvních sedm alb\, která dodnes patří k nejlepším heavymetalovým albům. Těšte se na klasiky jako „Wasted Years“\, „The Trooper“\, „The Seventh Son of a Seventh Son“\, „Hallowed Be Thy Name“ a „The Prisoner“\, stejně jako na novější skladby jako „Blood Brothers“
LOCATION:Plzeň
END:VEVENT
END:VCALENDAR